BEGIN:VCALENDAR
VERSION:2.0
PRODID:www.stappen-shoppen.nl
BEGIN:VEVENT
UID:stappen-shoppen.nl/entity/69e8debb4972d5eae20e785b
DTSTAMP:20260422T190009Z
ORGANIZER;CN=:MAILTO:info@dehouthallen.nl
DTSTART:20260503T130000Z
DTEND:20260422T170000Z
URL:https://m.cityappoosterhout.nl/ical/69e8debb4972d5eae20e785b
SUMMARY:Only on Sunday: Mell Tierra!
DESCRIPTION:Op zaterdag 3 mei verandert De Houthallen in een sfeervolle plek voor een ontspannen middag met muziek\, borrel en gezelligheid. DJ Mell Tierra draait van 15.00 tot 19.00 uur een vinyl-only set met house classics.
END:VEVENT
END:VCALENDAR

