BEGIN:VCALENDAR
VERSION:2.0
PRODID:www.stappen-shoppen.nl
BEGIN:VEVENT
UID:stappen-shoppen.nl/entity/69aaedbaf6910e528a06ebf5
DTSTAMP:20260421T114413Z
ORGANIZER;CN=:MAILTO:info@hethoutsemeer.nl
DTSTART:20260306T150200Z
DTEND:20260306T150200Z
URL:https://m.cityappoosterhout.nl/ical/69aaedbaf6910e528a06ebf5
SUMMARY:🎶 VINYL SUNDAY @ DE HOUTHALLEN
DESCRIPTION:Vintage Vinyl\, goede vibes en een relaxte zondagborrel in industriële sfeer bij De Houthallen. 🎶
END:VEVENT
END:VCALENDAR

