BEGIN:VCALENDAR
VERSION:2.0
PRODID:www.stappen-shoppen.nl
BEGIN:VEVENT
UID:stappen-shoppen.nl/entity/699d69468c8c0912440f3754
DTSTAMP:20260421T140547Z
ORGANIZER;CN=:MAILTO:info@hethoutsemeer.nl
DTSTART:20260301T130000Z
DTEND:20260301T190000Z
URL:https://m.cityappoosterhout.nl/ical/699d69468c8c0912440f3754
SUMMARY:🎶 VINYL SUNDAY @ DE HOUTHALLEN
DESCRIPTION:Vintage Vinyl\, goede vibes en een relaxte zondagborrel in industriële sfeer bij De Houthallen. 🎶
END:VEVENT
END:VCALENDAR

