BEGIN:VCALENDAR
VERSION:2.0
PRODID:www.stappen-shoppen.nl
BEGIN:VEVENT
UID:stappen-shoppen.nl/entity/698c70dbbd7480d24303965b
DTSTAMP:20260421T133845Z
ORGANIZER;CN=:MAILTO:info@vintagemeesters.nl
DTSTART:20260213T100000Z
DTEND:20260213T150000Z
URL:https://m.cityappoosterhout.nl/ical/698c70dbbd7480d24303965b
SUMMARY:VintageMeesters EXTRA OPEN 13 februari
DESCRIPTION:VintageMeesters Extra OPEN 13 feb 11-16
END:VEVENT
END:VCALENDAR

