BEGIN:VCALENDAR
VERSION:2.0
PRODID:www.stappen-shoppen.nl
BEGIN:VEVENT
UID:stappen-shoppen.nl/entity/698c5d4547cc6ded30068b7d
DTSTAMP:20260421T140541Z
ORGANIZER;CN=:MAILTO:info@vintagemeesters.nl
DTSTART:20260222T100000Z
DTEND:20260222T150000Z
URL:https://m.cityappoosterhout.nl/ical/698c5d4547cc6ded30068b7d
SUMMARY:KOOPZONDAG voor Vintage Furniture LOVERS
DESCRIPTION:KOOPZONDAG voor Vintage Furniture LOVERS
END:VEVENT
END:VCALENDAR

