BEGIN:VCALENDAR
VERSION:2.0
PRODID:www.stappen-shoppen.nl
BEGIN:VEVENT
UID:stappen-shoppen.nl/entity/698b1e93d00543ccbe0726a0
DTSTAMP:20260421T133020Z
ORGANIZER;CN=:MAILTO:anne@befitbreda.nl
DTSTART:20260301T083000Z
DTEND:20260301T100000Z
URL:https://m.cityappoosterhout.nl/ical/698b1e93d00543ccbe0726a0
SUMMARY:XXL Bootcamp bij Cadettenkamp
DESCRIPTION:XXL bootcamp - gratis kennismaken met bootcamp
END:VEVENT
END:VCALENDAR

