BEGIN:VCALENDAR
VERSION:2.0
PRODID:www.stappen-shoppen.nl
BEGIN:VEVENT
UID:stappen-shoppen.nl/entity/69806ebed06f560d32069aa2
DTSTAMP:20260421T151420Z
ORGANIZER;CN=:MAILTO:
DTSTART:20260214T190000Z
DTEND:20260214T190000Z
URL:https://m.cityappoosterhout.nl/ical/69806ebed06f560d32069aa2
SUMMARY:Askruizen By Night
DESCRIPTION:Geniet van Ut Kaaiendonks Kepelleke d’Askruizen by night! Tegen het vallen van de avond treden wij graag op en waar kan dat nou mooier dan op het Hatsekideeplein!
END:VEVENT
END:VCALENDAR

