BEGIN:VCALENDAR
VERSION:2.0
PRODID:www.stappen-shoppen.nl
BEGIN:VEVENT
UID:stappen-shoppen.nl/entity/69806d8bd02ca96ecf075a62
DTSTAMP:20260421T151847Z
ORGANIZER;CN=:MAILTO:
DTSTART:20260214T141100Z
DTEND:20260214T143000Z
URL:https://m.cityappoosterhout.nl/ical/69806d8bd02ca96ecf075a62
SUMMARY:Intocht van prins Mienus XV
DESCRIPTION:De sleutel van de stad is in handen\, het carnavalsfeest kan nu echt beginnen! De Smulnarren verzamelen zich op de Markt van Kaaiendonk\, klaar voor de leut die komen gaan.
END:VEVENT
END:VCALENDAR

