BEGIN:VCALENDAR
VERSION:2.0
PRODID:www.stappen-shoppen.nl
BEGIN:VEVENT
UID:stappen-shoppen.nl/entity/69806b5d15664344450b04f7
DTSTAMP:20260421T155156Z
ORGANIZER;CN=:MAILTO:
DTSTART:20260214T113000Z
DTEND:20260214T133000Z
URL:https://m.cityappoosterhout.nl/ical/69806b5d15664344450b04f7
SUMMARY:De Kaaienschijters Bierfietstocht 2026
DESCRIPTION:Op vrijdag 14 februari trappen we het carnavalsweekend af met een middag vol plezier\, muziek en Bourgondische gezelligheid!
END:VEVENT
END:VCALENDAR

