BEGIN:VCALENDAR
VERSION:2.0
PRODID:www.stappen-shoppen.nl
BEGIN:VEVENT
UID:stappen-shoppen.nl/entity/69806a4e8bc8268bd70b0ba7
DTSTAMP:20260421T162934Z
ORGANIZER;CN=:MAILTO:
DTSTART:20260213T190000Z
DTEND:20260213T223000Z
URL:https://m.cityappoosterhout.nl/ical/69806a4e8bc8268bd70b0ba7
SUMMARY:Ouderwets Gezellig Kapellenfestival
DESCRIPTION:Een ouderwets gezellige avond op vrijdag 13-februari bij Café Oud-Brabant met maar liefst 10 kapellen! Wil je carnaval goed beginnen? Zorg dan dat je erbij bent!
END:VEVENT
END:VCALENDAR

