BEGIN:VCALENDAR
VERSION:2.0
PRODID:www.stappen-shoppen.nl
BEGIN:VEVENT
UID:stappen-shoppen.nl/entity/69806913bf86f65d87014702
DTSTAMP:20260421T150451Z
ORGANIZER;CN=:MAILTO:
DTSTART:20260213T140700Z
DTEND:20260213T170000Z
URL:https://m.cityappoosterhout.nl/ical/69806913bf86f65d87014702
SUMMARY:Juffen en Meesterlijk bal
DESCRIPTION:Traditiegetrouw op vrijdagmiddag het “JUFFEN EN MEESTERLIJK BAL” Vanaf 15u zijn jullie weer welkom\, DJ Peerke kijkt er al weer naar uit!!
END:VEVENT
END:VCALENDAR

