BEGIN:VCALENDAR
VERSION:2.0
PRODID:www.stappen-shoppen.nl
BEGIN:VEVENT
UID:stappen-shoppen.nl/entity/6980663ca75097b10a080fa8
DTSTAMP:20260421T150651Z
ORGANIZER;CN=:MAILTO:
DTSTART:20260212T190000Z
DTEND:20260213T000000Z
URL:https://m.cityappoosterhout.nl/ical/6980663ca75097b10a080fa8
SUMMARY:Carnavalfeest! Feesten tot je Beurs Bent!
DESCRIPTION:Spring en zing mee\, knotsgekke prijzen\, carnavalskrakers\, Bewegingsbingo en Sing a long met niemand minder Rens Merkelbach en DJ Peerke!!
END:VEVENT
END:VCALENDAR

