BEGIN:VCALENDAR
VERSION:2.0
PRODID:www.stappen-shoppen.nl
BEGIN:VEVENT
UID:stappen-shoppen.nl/entity/698065056744e18d2a03ad7c
DTSTAMP:20260421T150651Z
ORGANIZER;CN=:MAILTO:
DTSTART:20260207T190000Z
DTEND:20260207T225900Z
URL:https://m.cityappoosterhout.nl/ical/698065056744e18d2a03ad7c
SUMMARY:Ut Sauwelen 2026
DESCRIPTION:Na het daverende succes van de vernieuwde editie in 2025 is het Kaaiendonks Sauwelen terug – en hoe! In 2026 zetten we de traditie voort met een nieuwe editie van Ut Sauwelen in zijn frisse jasje.
END:VEVENT
END:VCALENDAR

