BEGIN:VCALENDAR
VERSION:2.0
PRODID:www.stappen-shoppen.nl
BEGIN:VEVENT
UID:stappen-shoppen.nl/entity/697cb798d2d26df7a50d0483
DTSTAMP:20260421T154847Z
ORGANIZER;CN=:MAILTO:
DTSTART:20260208T130000Z
DTEND:20260208T180000Z
URL:https://m.cityappoosterhout.nl/ical/697cb798d2d26df7a50d0483
SUMMARY:Kaaiendonk CarnavalSpektakel
DESCRIPTION:Voor de vierde keer organiseert de Stichting Oosterhoutse Gildefeesten op 8 februari 2026 het Kaaiendonks CarnavalSpektakel.
END:VEVENT
END:VCALENDAR

