BEGIN:VCALENDAR
VERSION:2.0
PRODID:www.stappen-shoppen.nl
BEGIN:VEVENT
UID:stappen-shoppen.nl/entity/697b7284afd8b12bbb0e8d19
DTSTAMP:20260421T151133Z
ORGANIZER;CN=:MAILTO:
DTSTART:20260215T121100Z
DTEND:20260215T163000Z
URL:https://m.cityappoosterhout.nl/ical/697b7284afd8b12bbb0e8d19
SUMMARY:Grote Optocht Kaaiendonk
DESCRIPTION:de Grote Optocht van Oosterhout is hèt spektakel van het jaar op 15 februari 2026 om 13:11 vanaf de Heuvel!
END:VEVENT
END:VCALENDAR

