BEGIN:VCALENDAR
VERSION:2.0
PRODID:www.stappen-shoppen.nl
BEGIN:VEVENT
UID:stappen-shoppen.nl/entity/696e0fc2f69864a5db05148f
DTSTAMP:20260421T152042Z
ORGANIZER;CN=:MAILTO:info@eetcafepieter.nl
DTSTART:20260214T090000Z
DTEND:20260217T225900Z
URL:https://m.cityappoosterhout.nl/ical/696e0fc2f69864a5db05148f
SUMMARY:Carnaval bij Eetcafé Pieter
DESCRIPTION:Carnaval 2026 staat voor de deur en dit jaar wordt het een beetje anders! Bekijk onze agenda en plan je feestje op tijd!
END:VEVENT
END:VCALENDAR

