BEGIN:VCALENDAR
VERSION:2.0
PRODID:www.stappen-shoppen.nl
BEGIN:VEVENT
UID:stappen-shoppen.nl/entity/696e0a987b487a9d7806afe6
DTSTAMP:20260421T150922Z
ORGANIZER;CN=:MAILTO:info@devrijheidoosterhout.nl
DTSTART:20260214T110000Z
DTEND:20260214T143000Z
URL:https://m.cityappoosterhout.nl/ical/696e0a987b487a9d7806afe6
SUMMARY:Valentijn
DESCRIPTION:Zaterdag 14 februari is het weer Valentijn! Ook dit jaar hebben wij weer een speciaal Valentijnsmenu samengesteld waar jullie samen van kunnen genieten.
END:VEVENT
END:VCALENDAR

