BEGIN:VCALENDAR
VERSION:2.0
PRODID:www.stappen-shoppen.nl
BEGIN:VEVENT
UID:stappen-shoppen.nl/entity/696650849d05c7f7a50ccd33
DTSTAMP:20260421T170101Z
ORGANIZER;CN=:MAILTO:
DTSTART:20260124T123000Z
DTEND:20260124T153000Z
URL:https://m.cityappoosterhout.nl/ical/696650849d05c7f7a50ccd33
SUMMARY:Snotnarrenbal
DESCRIPTION: Alle kinderen van 0 t/m 12 jaar zijn welkom voor een middag vol muziek\, spelletjes\, limonade en popcorn. 
END:VEVENT
END:VCALENDAR

