BEGIN:VCALENDAR
VERSION:2.0
PRODID:www.stappen-shoppen.nl
BEGIN:VEVENT
UID:stappen-shoppen.nl/entity/69664ac5c7efd6d1a3077400
DTSTAMP:20260421T172119Z
ORGANIZER;CN=:MAILTO:
DTSTART:20260118T110000Z
DTEND:20260118T150000Z
URL:https://m.cityappoosterhout.nl/ical/69664ac5c7efd6d1a3077400
SUMMARY:Open dag Mienushal
DESCRIPTION:Kom een kijkje nemen in de Mienushal.
END:VEVENT
END:VCALENDAR

