BEGIN:VCALENDAR
VERSION:2.0
PRODID:www.stappen-shoppen.nl
BEGIN:VEVENT
UID:stappen-shoppen.nl/entity/69661fa17d9cbf0ee80963b7
DTSTAMP:20260421T170013Z
ORGANIZER;CN=:MAILTO:
DTSTART:20260125T121100Z
DTEND:20260124T230000Z
URL:https://m.cityappoosterhout.nl/ical/69661fa17d9cbf0ee80963b7
SUMMARY:Kaaise dweildag 2026
DESCRIPTION:Op zondag 25 januari 2026 is het weer zover! Ter opwarming van Carnaval vieren we in het Brabantse Oosterhout (Kaaiendonk)\, op de zondag drie weken voor Carnaval\, de jaarlijkse nationale Dweildag voor Carnavalsbands: de Kaaise Dweildag.
END:VEVENT
END:VCALENDAR

