BEGIN:VCALENDAR
VERSION:2.0
PRODID:www.stappen-shoppen.nl
BEGIN:VEVENT
UID:stappen-shoppen.nl/entity/69579d602f6710e2da0f0871
DTSTAMP:20260421T172046Z
ORGANIZER;CN=:MAILTO:
DTSTART:20260102T102640Z
DTEND:20260102T102640Z
URL:https://m.cityappoosterhout.nl/ical/69579d602f6710e2da0f0871
SUMMARY:Zondagmiddag Livemuziek
DESCRIPTION:
END:VEVENT
END:VCALENDAR

