BEGIN:VCALENDAR
VERSION:2.0
PRODID:www.stappen-shoppen.nl
BEGIN:VEVENT
UID:stappen-shoppen.nl/entity/6943be3dbef3a757520a53e2
DTSTAMP:20260421T174426Z
ORGANIZER;CN=:MAILTO:
DTSTART:20251221T110000Z
DTEND:20251221T160000Z
URL:https://m.cityappoosterhout.nl/ical/6943be3dbef3a757520a53e2
SUMMARY:Vintage sunday bij De Houthallen
DESCRIPTION:
END:VEVENT
END:VCALENDAR

