BEGIN:VCALENDAR
VERSION:2.0
PRODID:www.stappen-shoppen.nl
BEGIN:VEVENT
UID:stappen-shoppen.nl/entity/6943bbc2fa79fd73a8028bab
DTSTAMP:20260421T164551Z
ORGANIZER;CN=:MAILTO:
DTSTART:20251218T083058Z
DTEND:20251218T083058Z
URL:https://m.cityappoosterhout.nl/ical/6943bbc2fa79fd73a8028bab
SUMMARY:Live Muziek bij De Houthallen
DESCRIPTION:
END:VEVENT
END:VCALENDAR

