BEGIN:VCALENDAR
VERSION:2.0
PRODID:www.stappen-shoppen.nl
BEGIN:VEVENT
UID:stappen-shoppen.nl/entity/6932a24f7c4eaac4320259c8
DTSTAMP:20260421T170050Z
ORGANIZER;CN=:MAILTO:
DTSTART:20251228T130000Z
DTEND:20251228T180000Z
URL:https://m.cityappoosterhout.nl/ical/6932a24f7c4eaac4320259c8
SUMMARY:Live muziek bij De Houthallen
DESCRIPTION:
END:VEVENT
END:VCALENDAR

