BEGIN:VCALENDAR
VERSION:2.0
PRODID:www.stappen-shoppen.nl
BEGIN:VEVENT
UID:stappen-shoppen.nl/entity/693054f7440e08493d0ea541
DTSTAMP:20260421T175524Z
ORGANIZER;CN=:MAILTO:info@eetcafepieter.nl
DTSTART:20251225T160000Z
DTEND:20251225T210000Z
URL:https://m.cityappoosterhout.nl/ical/693054f7440e08493d0ea541
SUMMARY:Feestelijke Kerstervaring
DESCRIPTION:Beleef de magie van kerst bij Eetcafe Pieter!
END:VEVENT
BEGIN:VEVENT
UID:stappen-shoppen.nl/entity/693054f7440e08493d0ea541
DTSTAMP:20260421T175524Z
ORGANIZER;CN=:MAILTO:info@eetcafepieter.nl
DTSTART:20251226T160000Z
DTEND:20251226T210000Z
URL:https://m.cityappoosterhout.nl/ical/693054f7440e08493d0ea541
SUMMARY:Feestelijke Kerstervaring
DESCRIPTION:Beleef de magie van kerst bij Eetcafe Pieter!
END:VEVENT
END:VCALENDAR

