BEGIN:VCALENDAR
VERSION:2.0
PRODID:www.stappen-shoppen.nl
BEGIN:VEVENT
UID:stappen-shoppen.nl/entity/69304b148f3fcd6ba4045c3c
DTSTAMP:20260421T185743Z
ORGANIZER;CN=:MAILTO:
DTSTART:20251221T113000Z
DTEND:20251203T150000Z
URL:https://m.cityappoosterhout.nl/ical/69304b148f3fcd6ba4045c3c
SUMMARY:Koopzondag en Magie de Noël
DESCRIPTION:Beleef een magische kerstparade in de binnenstad op koopzondag.
END:VEVENT
END:VCALENDAR

