BEGIN:VCALENDAR
VERSION:2.0
PRODID:www.stappen-shoppen.nl
BEGIN:VEVENT
UID:stappen-shoppen.nl/entity/693049460e293d832f0f086e
DTSTAMP:20260421T185306Z
ORGANIZER;CN=:MAILTO:
DTSTART:20251213T144500Z
DTEND:20251212T154500Z
URL:https://m.cityappoosterhout.nl/ical/693049460e293d832f0f086e
SUMMARY:Santarun Oosterhout
DESCRIPTION:Ho ho ho! Santa Run brengt Oosterhout in beweging voor goede doelen
END:VEVENT
END:VCALENDAR

