BEGIN:VCALENDAR
VERSION:2.0
PRODID:www.stappen-shoppen.nl
BEGIN:VEVENT
UID:stappen-shoppen.nl/entity/6930479c7ce076ad1c03a1a3
DTSTAMP:20260421T191557Z
ORGANIZER;CN=:MAILTO:
DTSTART:20251206T142000Z
DTEND:20260104T142000Z
URL:https://m.cityappoosterhout.nl/ical/6930479c7ce076ad1c03a1a3
SUMMARY:Ijsmarkt Oosterhout 
DESCRIPTION:Deze winter is er weer een IJsmarkt! Kom lekker schaatsen\, geniet van de koek-en-zopie en proef de sfeer!
END:VEVENT
END:VCALENDAR

