BEGIN:VCALENDAR
VERSION:2.0
PRODID:www.stappen-shoppen.nl
BEGIN:VEVENT
UID:stappen-shoppen.nl/entity/690b191b2802bcab530575c8
DTSTAMP:20260421T190048Z
ORGANIZER;CN=:MAILTO:
DTSTART:20251128T163000Z
DTEND:20251128T220000Z
URL:https://m.cityappoosterhout.nl/ical/690b191b2802bcab530575c8
SUMMARY:Dancing Queen dinershow
DESCRIPTION:De castleden van Mamma Mia! The Party nemen je mee langs de grootste ABBA-klassiekers. Een feest van herkenning\, waarin meezingen en meeswingen bijna vanzelf gaan. Terwijl de gangen worden geserveerd\, ontvouwt zich een show vol zang & dans!
END:VEVENT
END:VCALENDAR

