BEGIN:VCALENDAR
VERSION:2.0
PRODID:www.stappen-shoppen.nl
BEGIN:VEVENT
UID:stappen-shoppen.nl/entity/690b0d47f3c392595b0d0e55
DTSTAMP:20260421T185435Z
ORGANIZER;CN=:MAILTO:
DTSTART:20251214T150000Z
DTEND:20251214T200000Z
URL:https://m.cityappoosterhout.nl/ical/690b0d47f3c392595b0d0e55
SUMMARY:De TOP2000 QUIZ!
DESCRIPTION:
END:VEVENT
END:VCALENDAR

