BEGIN:VCALENDAR
VERSION:2.0
PRODID:www.stappen-shoppen.nl
BEGIN:VEVENT
UID:stappen-shoppen.nl/entity/69009ebdfb4d248c0e00ed71
DTSTAMP:20260421T190436Z
ORGANIZER;CN=:MAILTO:
DTSTART:20251121T160000Z
DTEND:20251121T223000Z
URL:https://m.cityappoosterhout.nl/ical/69009ebdfb4d248c0e00ed71
SUMMARY:Pubquiz 21 november
DESCRIPTION:
END:VEVENT
END:VCALENDAR

