BEGIN:VCALENDAR
VERSION:2.0
PRODID:www.stappen-shoppen.nl
BEGIN:VEVENT
UID:stappen-shoppen.nl/entity/69009db1c390dba7dd0cfa96
DTSTAMP:20260421T180648Z
ORGANIZER;CN=:MAILTO:
DTSTART:20260110T170000Z
DTEND:20260110T170000Z
URL:https://m.cityappoosterhout.nl/ical/69009db1c390dba7dd0cfa96
SUMMARY:Dancing Queen Dinershow UITVERKOCHT
DESCRIPTION:De originele castleden van Mamma Mia! The Party brengen bij ons een intieme dinershow vol ABBA-klassiekers\, zang\, dans en disco vibes. Tussen de gangen door ontvouwt zich een feest van herkenning waarin meezingen en meeswingen bijna vanzelf gaan!
END:VEVENT
END:VCALENDAR

