BEGIN:VCALENDAR
VERSION:2.0
PRODID:www.stappen-shoppen.nl
BEGIN:VEVENT
UID:stappen-shoppen.nl/entity/68f9e2774811062006002da1
DTSTAMP:20260421T190931Z
ORGANIZER;CN=:MAILTO:
DTSTART:20251031T160000Z
DTEND:20251031T200000Z
URL:https://m.cityappoosterhout.nl/ical/68f9e2774811062006002da1
SUMMARY:Vintage Friday 
DESCRIPTION:
END:VEVENT
END:VCALENDAR

