BEGIN:VCALENDAR
VERSION:2.0
PRODID:www.stappen-shoppen.nl
BEGIN:VEVENT
UID:stappen-shoppen.nl/entity/68f8e851f2a8d2b2420a3af4
DTSTAMP:20260421T185624Z
ORGANIZER;CN=:MAILTO:info@dehouthallen.nl
DTSTART:20251130T133000Z
DTEND:20251130T154500Z
URL:https://m.cityappoosterhout.nl/ical/68f8e851f2a8d2b2420a3af4
SUMMARY:Sinterklaasmusical : Paniek bij de postfabriek
DESCRIPTION:
END:VEVENT
END:VCALENDAR

