BEGIN:VCALENDAR
VERSION:2.0
PRODID:www.stappen-shoppen.nl
BEGIN:VEVENT
UID:stappen-shoppen.nl/entity/68f8de8786c42e996405026b
DTSTAMP:20260421T205512Z
ORGANIZER;CN=:MAILTO:
DTSTART:20251022T133919Z
DTEND:20251022T133919Z
URL:https://m.cityappoosterhout.nl/ical/68f8de8786c42e996405026b
SUMMARY:Sinterklaasmusical: Paniek bij de postfabriek
DESCRIPTION:
END:VEVENT
END:VCALENDAR

