BEGIN:VCALENDAR
VERSION:2.0
PRODID:www.stappen-shoppen.nl
BEGIN:VEVENT
UID:stappen-shoppen.nl/entity/68f8c78c39be36fa89085459
DTSTAMP:20260421T202744Z
ORGANIZER;CN=:MAILTO:
DTSTART:20251029T130100Z
DTEND:20251101T130100Z
URL:https://m.cityappoosterhout.nl/ical/68f8c78c39be36fa89085459
SUMMARY:KO & FLO Sample Sale 29 oktober t/m 1 november
DESCRIPTION:De bekende Sample Sale gaat weer van start! Van woensdag 29 oktober t/m zaterdag 1 november kun je bij KO&FLO in Oosterhout de leukste items uit de wintercollectie van dit seizoen shoppen tegen scherpe prijzen.
END:VEVENT
END:VCALENDAR

