BEGIN:VCALENDAR
VERSION:2.0
PRODID:www.stappen-shoppen.nl
BEGIN:VEVENT
UID:stappen-shoppen.nl/entity/68f202d957805620440e269f
DTSTAMP:20260421T202829Z
ORGANIZER;CN=:MAILTO:
DTSTART:20251019T080000Z
DTEND:20251019T130000Z
URL:https://m.cityappoosterhout.nl/ical/68f202d957805620440e269f
SUMMARY:Zondag 19 Oktober: Open Dag bij Skischool Oosterhout! Zet 'm in je agenda!
DESCRIPTION:Op 19 oktober opent Skischool Oosterhout haar deuren van 10.00 tot 15.00 uur! Kom en beleef een dag vol actie en plezier voor het hele gezin. Of je nu een ervaren wintersporter bent of gewoon nieuwsgierig bent naar deze actieve en leuke manier van bewegen\, deze open dag is perfect om kennis te maken met de rolbanen van deze toffe skischool!
END:VEVENT
END:VCALENDAR

