BEGIN:VCALENDAR
VERSION:2.0
PRODID:www.stappen-shoppen.nl
BEGIN:VEVENT
UID:stappen-shoppen.nl/entity/68f1f848919fd64647035f42
DTSTAMP:20260421T170158Z
ORGANIZER;CN=:MAILTO:
DTSTART:20251226T100000Z
DTEND:20251226T160000Z
URL:https://m.cityappoosterhout.nl/ical/68f1f848919fd64647035f42
SUMMARY:Kerst High Tea bij 't Slot
DESCRIPTION:Tweede kerstdag openen wij in Oosterhout onze deuren voor een heerlijke kerst high tea voor het hele gezin. 
END:VEVENT
END:VCALENDAR

