BEGIN:VCALENDAR
VERSION:2.0
PRODID:www.stappen-shoppen.nl
BEGIN:VEVENT
UID:stappen-shoppen.nl/entity/68c80774b77b149f8a0b5248
DTSTAMP:20260421T202745Z
ORGANIZER;CN=:MAILTO:
DTSTART:20251016T190000Z
DTEND:20251021T190000Z
URL:https://m.cityappoosterhout.nl/ical/68c80774b77b149f8a0b5248
SUMMARY:Labareau & Bubbels | The Glow workshop
DESCRIPTION:Laat je onderdompelen in de wereld van high-end skincare tijdens een exclusieve avond vol glow\, bubbels en beauty.
END:VEVENT
END:VCALENDAR

