BEGIN:VCALENDAR
VERSION:2.0
PRODID:www.stappen-shoppen.nl
BEGIN:VEVENT
UID:stappen-shoppen.nl/entity/68c0229815ce9ae54d0d0da4
DTSTAMP:20260421T205006Z
ORGANIZER;CN=:MAILTO:service@hethoutsemeer.nl
DTSTART:20250928T080000Z
DTEND:20250928T130000Z
URL:https://m.cityappoosterhout.nl/ical/68c0229815ce9ae54d0d0da4
SUMMARY:Bruidsevent 28 september 💍❣️
DESCRIPTION:Laat je op 28 september inspireren voor jullie droombruiloft en ontdek de sfeer van onze prachtige locatie met leveranciers en stylingideeën.
END:VEVENT
END:VCALENDAR

