BEGIN:VCALENDAR
VERSION:2.0
PRODID:www.stappen-shoppen.nl
BEGIN:VEVENT
UID:stappen-shoppen.nl/entity/68af0ca6b7049c9e620d1dae
DTSTAMP:20260421T202732Z
ORGANIZER;CN=:MAILTO:
DTSTART:20250829T130000Z
DTEND:20250829T180000Z
URL:https://m.cityappoosterhout.nl/ical/68af0ca6b7049c9e620d1dae
SUMMARY:OPENING INTERSPORT FOOTBALL
DESCRIPTION:Op vrijdag 29 augustus opent Intersport Oosterhout officieel de allereerste Intersport Football Store van Nederland én Europa
END:VEVENT
END:VCALENDAR

