BEGIN:VCALENDAR
VERSION:2.0
PRODID:www.stappen-shoppen.nl
BEGIN:VEVENT
UID:stappen-shoppen.nl/entity/6858fb570bf006a5be09fce6
DTSTAMP:20260421T224921Z
ORGANIZER;CN=:MAILTO:info@dehouthallen.nl
DTSTART:20250718T180000Z
DTEND:20250718T203000Z
URL:https://m.cityappoosterhout.nl/ical/6858fb570bf006a5be09fce6
SUMMARY:Pubquiz bij De Houthallen
DESCRIPTION:Elke 3e vrijdag van de maand is het tijd voor gezelligheid\, competitie en bier bij De Houthallen! 🍻  Test je kennis\, vorm een team en maak kans op toffe prijzen. Volgende edities: 20/6 - 18/7 - 22/8 - 19/9.  📍 Locatie: Wilhelminakanaal Zuid 104\, Oosterhout  🕗 Tijd: 20.00 – 22.30 uur  💸 Inschrijfgeld: €5\,- p.p.  📧 Aanmelden via: info@dehouthallen.nl  Kom langs voor een avond vol food\, music\, beer\, prices & fun. We zien je daar!
END:VEVENT
BEGIN:VEVENT
UID:stappen-shoppen.nl/entity/6858fb570bf006a5be09fce6
DTSTAMP:20260421T224921Z
ORGANIZER;CN=:MAILTO:info@dehouthallen.nl
DTSTART:20250822T180000Z
DTEND:20250822T203000Z
URL:https://m.cityappoosterhout.nl/ical/6858fb570bf006a5be09fce6
SUMMARY:Pubquiz bij De Houthallen
DESCRIPTION:Elke 3e vrijdag van de maand is het tijd voor gezelligheid\, competitie en bier bij De Houthallen! 🍻  Test je kennis\, vorm een team en maak kans op toffe prijzen. Volgende edities: 20/6 - 18/7 - 22/8 - 19/9.  📍 Locatie: Wilhelminakanaal Zuid 104\, Oosterhout  🕗 Tijd: 20.00 – 22.30 uur  💸 Inschrijfgeld: €5\,- p.p.  📧 Aanmelden via: info@dehouthallen.nl  Kom langs voor een avond vol food\, music\, beer\, prices & fun. We zien je daar!
END:VEVENT
BEGIN:VEVENT
UID:stappen-shoppen.nl/entity/6858fb570bf006a5be09fce6
DTSTAMP:20260421T224921Z
ORGANIZER;CN=:MAILTO:info@dehouthallen.nl
DTSTART:20250919T180000Z
DTEND:20250919T203000Z
URL:https://m.cityappoosterhout.nl/ical/6858fb570bf006a5be09fce6
SUMMARY:Pubquiz bij De Houthallen
DESCRIPTION:Elke 3e vrijdag van de maand is het tijd voor gezelligheid\, competitie en bier bij De Houthallen! 🍻  Test je kennis\, vorm een team en maak kans op toffe prijzen. Volgende edities: 20/6 - 18/7 - 22/8 - 19/9.  📍 Locatie: Wilhelminakanaal Zuid 104\, Oosterhout  🕗 Tijd: 20.00 – 22.30 uur  💸 Inschrijfgeld: €5\,- p.p.  📧 Aanmelden via: info@dehouthallen.nl  Kom langs voor een avond vol food\, music\, beer\, prices & fun. We zien je daar!
END:VEVENT
END:VCALENDAR

