BEGIN:VCALENDAR
VERSION:2.0
PRODID:www.stappen-shoppen.nl
BEGIN:VEVENT
UID:stappen-shoppen.nl/entity/67b2fbe01fa9ffcc770ecab8
DTSTAMP:20260421T220511Z
ORGANIZER;CN=:MAILTO:info@hethoutsemeer.nl
DTSTART:20250406T100000Z
DTEND:20250406T110000Z
URL:https://m.cityappoosterhout.nl/ical/67b2fbe01fa9ffcc770ecab8
SUMMARY:Vier de liefde bij Het Houtse Meer! 
DESCRIPTION:Dromen jullie van een bruiloft in 2025\, 2026 of 2027? Op 6 april in de ochtend openen we onze deuren voor een exclusieve bezichtiging van onze vernieuwde trouwlocatie!  Laat je inspireren door ons prachtige ceremonieterrein\, het sfeervolle strand\, de gloednieuwe buitenkeuken en de stijlvolle lounge. Dit is hét moment om jullie droombruiloft tot leven te zien komen!  💌 Interesse? Mail naar service@hethoutsemeer.nl om je aan te melden en kom samen met je geliefde langs.  Liefs\, Team Het Houtse Meer
END:VEVENT
END:VCALENDAR

