BEGIN:VCALENDAR
VERSION:2.0
PRODID:www.stappen-shoppen.nl
BEGIN:VEVENT
UID:stappen-shoppen.nl/entity/6788b919d1f34f534b0f568e
DTSTAMP:20260421T220522Z
ORGANIZER;CN=:MAILTO:
DTSTART:20250421T063000Z
DTEND:20250421T140000Z
URL:https://m.cityappoosterhout.nl/ical/6788b919d1f34f534b0f568e
SUMMARY:Urban Walk Breda!
DESCRIPTION:Ontdek Breda op een unieke manier tijdens de Urban Walk Breda! De korte route van ongeveer 10-12 km en een lange route van 18-20 km brengen je langs en door de mooiste highlights en locaties van Breda. Op Paasmaandag\, maandag 21 april 2025\, vindt de 3e editie van de wandeling plaats. Bezoek tijdens deze editie onder ander STRND en The GalleryLane\, maar dat is nog lang niet alles!  Wandel jij gezellig mee?  Schrijf je hier in!
END:VEVENT
END:VCALENDAR

