BEGIN:VCALENDAR
VERSION:2.0
PRODID:www.stappen-shoppen.nl
BEGIN:VEVENT
UID:stappen-shoppen.nl/entity/6766fc5d1d0aadffc508afd9
DTSTAMP:20260421T220229Z
ORGANIZER;CN=:MAILTO:info@spaone.nl
DTSTART:20250222T090000Z
DTEND:20250222T213000Z
URL:https://m.cityappoosterhout.nl/ical/6766fc5d1d0aadffc508afd9
SUMMARY:Vuurloop
DESCRIPTION:Vuurlopen is met blote voeten over een tapijt gloeiend hete kolen lopen van ongeveer 4 meter lang en 2 meter breed. Deze unieke levenservaring zorgt ervoor dat je jezelf beter zal leren kennen en je zelfvertrouwen groeit.
END:VEVENT
END:VCALENDAR

